BEGIN:VCALENDAR
VERSION:2.0
PRODID:-//EcoGuard AB - Sveriges ledande leverantör av IMD - ECPv6.15.20//NONSGML v1.0//EN
CALSCALE:GREGORIAN
METHOD:PUBLISH
X-WR-CALNAME:EcoGuard AB - Sveriges ledande leverantör av IMD
X-ORIGINAL-URL:https://ecoguard.se
X-WR-CALDESC:Händelser för EcoGuard AB - Sveriges ledande leverantör av IMD
REFRESH-INTERVAL;VALUE=DURATION:PT1H
X-Robots-Tag:noindex
X-PUBLISHED-TTL:PT1H
BEGIN:VTIMEZONE
TZID:Europe/Stockholm
BEGIN:DAYLIGHT
TZOFFSETFROM:+0100
TZOFFSETTO:+0200
TZNAME:CEST
DTSTART:20250330T010000
END:DAYLIGHT
BEGIN:STANDARD
TZOFFSETFROM:+0200
TZOFFSETTO:+0100
TZNAME:CET
DTSTART:20251026T010000
END:STANDARD
BEGIN:DAYLIGHT
TZOFFSETFROM:+0100
TZOFFSETTO:+0200
TZNAME:CEST
DTSTART:20260329T010000
END:DAYLIGHT
BEGIN:STANDARD
TZOFFSETFROM:+0200
TZOFFSETTO:+0100
TZNAME:CET
DTSTART:20261025T010000
END:STANDARD
BEGIN:DAYLIGHT
TZOFFSETFROM:+0100
TZOFFSETTO:+0200
TZNAME:CEST
DTSTART:20270328T010000
END:DAYLIGHT
BEGIN:STANDARD
TZOFFSETFROM:+0200
TZOFFSETTO:+0100
TZNAME:CET
DTSTART:20271031T010000
END:STANDARD
END:VTIMEZONE
BEGIN:VEVENT
DTSTART;TZID=Europe/Stockholm:20260211T144000
DTEND;TZID=Europe/Stockholm:20260211T144000
DTSTAMP:20260422T211736
CREATED:20251106T134837Z
LAST-MODIFIED:20251106T134837Z
UID:5605-1770820800-1770820800@ecoguard.se
SUMMARY:Styrelsemässan i Uppsala
DESCRIPTION:Styrelsemässan är den största eftermiddags-/kvällsmässa som arrangeras för bostadsrättsföreningar och leverantörer. Givetvis är Styrelsemässan kostnadsfri för dig som besökare. \nAntalet besökare/bostadsrättsföreningar som kan besöka Styrelsemässan är begränsat\, därför är det bra att anmäla er förening i god tid. Styrelsemässan är den självklara mötesplatsen för leverantörer och bostadsrättsföreningar. Din bostadsrättsförenings behov av olika varor och tjänster är samlade på ett ställe. Den personliga kontakten är viktig. Ni får ett ansikte och en person bakom företagslogotypen. Styrelsemässan fungerar som ett forum där du på kort tid får kontakt med flera olika leverantörer. Ni kan fråga om olika lösningar för er förenings specifika behov och utbyta idéer och tankar.
URL:https://ecoguard.se/event/styrelsemassan-i-uppsala-3/
LOCATION:Uppsala Konsert & Kongress\, Vaksala torg 1\, Uppsala\, 753 31\, Sweden
CATEGORIES:Mässor
ATTACH;FMTTYPE=image/jpeg:https://ecoguard.se/wp-content/uploads/styrelsemassa-eventbanner.jpg
END:VEVENT
END:VCALENDAR